Workbook
Name わな種情報: #REF!
Name 餌: テーブル4[作業区分]
Name 餌: テーブル4[作業区分]
Name 餌: [1]!テーブル4[作業区分]
Name 餌: テーブル4[作業区分]
Name 確認の有無: テーブル410[確認の有無]
Name 確認の有無: テーブル410[確認の有無]
Name 確認の有無: [1]!テーブル410[確認の有無]
Name 確認の有無: テーブル410[確認の有無]
Name 厚型_薄型: #REF!
Name 厚型_薄型: [1]!テーブル7[ゴミ袋サイズ]
Name 厚型_薄型: #REF!
Name 市町村: テーブル59[市町村]
Name 市町村: テーブル59[市町村]
Name 市町村: [1]!テーブル59[市町村]
Name 市町村: テーブル59[市町村]
Name 市町村2: #REF!
Name 市町村2: #REF!
Name 市町村2: #REF!
Name 死体の状況: テーブル3[駆除状況]
Name 死体の状況: テーブル3[駆除状況]
Name 死体の状況: [1]!テーブル3[駆除範囲]
Name 死体の状況: テーブル3[駆除状況]
Name 種名: テーブル2[外来種名]
Name 種名: テーブル2[外来種名]
Name 種名: [1]!テーブル2[外来種名]
Name 種名: テーブル2[外来種名]
Name 棒の形状: #REF!

Sheet 【自動】印刷用
B1: 外来種駆除･モニタリング等報告書 | G1: Ctrlを押したまま「【入力】写真シート」を選択して印刷をすると2つのシートを同時印刷できます。
B2: 作業日 | C2: =IF(【入力】作業記録入力!C15="","",【入力】作業記録入力!C15) | D2: 作業時間 | E2: =TEXT(【入力】作業記録入力!C16,"hh:mm")&"～"&TEXT(【入力】作業記録入力!C17,"hh:mm") -> 00:00～00:00
B3: 作業人数 | C3: =_xlfn.CONCAT(IF(【入力】作業記録入力!C20="","",【入力】作業記録入力!C20&"人")) | D3: 天気 | E3: =_xlfn.CONCAT(【入力】作業記録入力!C18)
B4: 対象植物 | C4: =_xlfn.CONCAT(IF(【入力】作業記録入力!C9="その他",【入力】作業記録入力!C10,【入力】作業記録入力!C9)) | D4: 作業区分 | E4: =_xlfn.CONCAT(【入力】作業記録入力!C12)
B5: 生育確認 | C5: =_xlfn.CONCAT(【入力】作業記録入力!C13) | D5: 市町村 | E5: =_xlfn.CONCAT(【入力】作業記録入力!C26)
B6: 場所 | C6: =_xlfn.CONCAT(【入力】作業記録入力!C27)
B7: 緯度 | C7: =_xlfn.CONCAT(IF(【入力】作業記録入力!C28="","",【入力】作業記録入力!C28&"°")) | D7: 経度 | E7: =_xlfn.CONCAT(IF(【入力】作業記録入力!C29="","",【入力】作業記録入力!C29&"°"))
B8: 駆除重量 | C8: =_xlfn.CONCAT(IF(【入力】作業記録入力!C33="","",【入力】作業記録入力!C33&"kg")) | D8: 土･雑草等 | E8: =_xlfn.CONCAT(【入力】作業記録入力!C34)
B9: 駆除量規格 | C9: =_xlfn.CONCAT(【入力】作業記録入力!C31) | D9: → | E9: =_xlfn.CONCAT(【入力】作業記録入力!C32)
B10: 重機使用 | C10: =_xlfn.CONCAT(IF(【入力】作業記録入力!C36="","無し",【入力】作業記録入力!C36)) -> 無し
B11: 駆除状況 | C11: =_xlfn.CONCAT(IF(【入力】作業記録入力!C38="その他",【入力】作業記録入力!C39,【入力】作業記録入力!C38)) | D11: =_xlfn.CONCAT(IF(【入力】作業記録入力!#REF!="その他",【入力】作業記録入力!#REF!,【入力】作業記録入力!#REF!)) -> #REF! | E11: =_xlfn.CONCAT(IF(【入力】作業記録入力!E34="その他",【入力】作業記録入力!E35,【入力】作業記録入力!E34)) -> 選択肢から選択してください。
B12: 主催者 | C12: =_xlfn.CONCAT(【入力】作業記録入力!C22)
B13: 実施者 | C13: =_xlfn.CONCAT(【入力】作業記録入力!C24)
B14: 【概要】
B15: =_xlfn.CONCAT(【入力】作業記録入力!C41)

Sheet 【入力】作業記録入力
B1: 作業記録入力シート | M1: ※こちらのシートに入力した情報が【自動】印刷用シートに反映されます。
B3: 提出日 | E3: 5-12 や 5/12 と入力すると、自動で年月日に変換されます。
B4: 記入者
B6: ※報告書は、提出後も各自必ず保管してください。
B7: ※分かる範囲で全て入力してください。
B9: 対象種 | E9: 選択肢から選択してください。
B10: （その他） | E10: その他の場合、種名を記入してください。
B12: 作業区分 | E12: 選択肢から選択してください。
B13: 生育の確認 | E13: 生育確認の有無を選択してください。
B15: 作業日 | E15: 5-12 や 5/12 と入力すると、自動で年月日に変換されます。
B16: 開始時刻 | E16: 24時間表記でお願いします。 午後１時なら 13:00と記入。
B17: 終了時刻 | E17: 24時間表記でお願いします。 午後１時なら 13:00と記入。
B18: 天気
B20: 作業人数（人）
B22: 主催者
B24: 実施者
B26: 市町村 | E26: 選択肢から選択してください。
B27: 場所 | E27: 河川名、路線名、集落名、地名などを入力してください。
B28: 緯度（°） | E28: (例：28.111111)
B29: 経度（°） | E29: (例：129.111111)
B31: 駆除量規格 | E31: （例）○リットルゴミ袋、○㌧トラック、フレコンバック
B32: ↑数量 | E32: （例）○袋、○台、○個
B33: 駆除重量（kg） | E33: kg単位で入力してください。
B34: 土･雑草等含 | E34: 選択肢から選択してください。
B36: 重機使用 | E36: 重機を使用した場合、重機の種類を入力してください。
B38: 駆除状況 | E38: 選択肢から選んでください。
B39: （その他） | E39: その他の場合、駆除範囲を入力してください。
B41: 【概要】
B42: ・作業内容まとめ
B43: ・課題や方針
B44: 等

Sheet 【入力】写真
AE1: 作業前 | AJ1: 作業後
B2: 写真 | L2: ●対象の種類が判別できるような近接写真を貼ってください。 | V2: ●駆除作業前後の変化が分かるような写真を貼ってください（なるべく同じアングル）。
B3: このシートに写真を貼り付けてください。 | U3: 作業前 | Z3: 作業後
B5: ●作業風景の写真を貼ってください。
L27: ●駆除量（重量や袋数）が分かるような写真を貼ってください。

Sheet 【自動】データ管理用
A1: 日付 | B1: 年度 | C1: 作業区分 | D1: 主たる対象植物 | E1: 特定外来生物 | F1: 開始時刻 | G1: 終了時刻 | H1: 作業時間 | I1: 人数（人） | J1: 人工 _人数×時間_8h_ | K1: 実施者 | L1: 主催者 | M1: c_環境省担当者 | N1: 単独_合同 | O1: 島名 | P1: 市町村 | Q1: 場所 | R1: 緯度（°） | S1: 経度（°） | T1: 駆除量規格 | U1: 規格数量 | V1: 駆除量(kg) | W1: 内容 | X1: 備考 | Y1: 生育確認
A2: =IF(【入力】作業記録入力!C15="","",【入力】作業記録入力!C15) | C2: =_xlfn.CONCAT(【入力】作業記録入力!C12) | D2: =_xlfn.CONCAT(IF(【入力】作業記録入力!C9="その他",【入力】作業記録入力!C10,【入力】作業記録入力!C9)) | F2: =TEXT(【入力】作業記録入力!C16,"hh:mm") -> 00:00 | G2: =TEXT(【入力】作業記録入力!C17,"hh:mm") -> 00:00 | I2: =_xlfn.CONCAT(【入力】作業記録入力!C20) | K2: =_xlfn.CONCAT(【入力】作業記録入力!C24) | L2: =_xlfn.CONCAT(【入力】作業記録入力!C22) | P2: =_xlfn.CONCAT(【入力】作業記録入力!C26) | Q2: =_xlfn.CONCAT(【入力】作業記録入力!C27) | R2: =_xlfn.CONCAT(IF(【入力】作業記録入力!C28="","",【入力】作業記録入力!C28)) | S2: =_xlfn.CONCAT(IF(【入力】作業記録入力!C29="","",【入力】作業記録入力!C29)) | T2: =_xlfn.CONCAT(【入力】作業記録入力!C31) | U2: =_xlfn.CONCAT(【入力】作業記録入力!C32) | V2: =_xlfn.CONCAT(【入力】作業記録入力!C33) | W2: =_xlfn.CONCAT(【入力】作業記録入力!C41) | Y2: =_xlfn.CONCAT(【入力】作業記録入力!C13)

Sheet 入力規則
A2: 外来種名 | C2: 作業区分 | E2: 確認の有無 | G2: 市町村 | I2: 土・雑草など含 | K2: 駆除状況
A3: オオキンケイギク | C3: 発見 | E3: 確認あり | G3: 喜界町 | I3: 多く含む | K3: 目視で確認できた全てを駆除
A4: オオフサモ | C4: 駆除 | E4: 確認なし | G4: 奄美市 | I4: 半分ぐらい含む | K4: 取り残しあり
A5: ツルヒヨドリ | C5: 防草シート設置 | G5: 龍郷町 | I5: 少し含む | K5: 駆除無し
A6: ナガエツルノゲイトウ | C6: 防草シートメンテナンス | G6: 大和村 | I6: ほとんど含まない | K6: その他
A7: ボタンウキクサ | C7: 除草剤処理 | G7: 宇検村
A8: ミズヒマワリ | C8: 温水処理 | G8: 瀬戸内町(大島)
A9: オオカワヂシャ | C9: モニタリング | G9: 瀬戸内町(加計呂麻島)
A10: その他 | C10: 駆除＆防草シート設置 | G10: 瀬戸内町(請島)
C11: 駆除＆防草シートメンテナンス | G11: 瀬戸内町(与路島)
C12: 駆除＆除草剤処理 | G12: 徳之島町
C13: 防草シート設置&除草剤処理 | G13: 天城町
C14: 防草シートメンテナンス＆除草剤処理 | G14: 伊仙町
C15: 除草剤処理＆温水処理 | G15: 和泊町
C16: その他 | G16: 知名町
G17: 与論町
